BEGIN:VCALENDAR
VERSION:2.0
PRODID:-//minis.ch - ECPv6.15.20//NONSGML v1.0//EN
CALSCALE:GREGORIAN
METHOD:PUBLISH
X-WR-CALNAME:minis.ch
X-ORIGINAL-URL:https://minis.ch
X-WR-CALDESC:Veranstaltungen für minis.ch
REFRESH-INTERVAL;VALUE=DURATION:PT1H
X-Robots-Tag:noindex
X-PUBLISHED-TTL:PT1H
BEGIN:VTIMEZONE
TZID:Europe/Zurich
BEGIN:DAYLIGHT
TZOFFSETFROM:+0100
TZOFFSETTO:+0200
TZNAME:CEST
DTSTART:20250330T010000
END:DAYLIGHT
BEGIN:STANDARD
TZOFFSETFROM:+0200
TZOFFSETTO:+0100
TZNAME:CET
DTSTART:20251026T010000
END:STANDARD
BEGIN:DAYLIGHT
TZOFFSETFROM:+0100
TZOFFSETTO:+0200
TZNAME:CEST
DTSTART:20260329T010000
END:DAYLIGHT
BEGIN:STANDARD
TZOFFSETFROM:+0200
TZOFFSETTO:+0100
TZNAME:CET
DTSTART:20261025T010000
END:STANDARD
BEGIN:DAYLIGHT
TZOFFSETFROM:+0100
TZOFFSETTO:+0200
TZNAME:CEST
DTSTART:20270328T010000
END:DAYLIGHT
BEGIN:STANDARD
TZOFFSETFROM:+0200
TZOFFSETTO:+0100
TZNAME:CET
DTSTART:20271031T010000
END:STANDARD
END:VTIMEZONE
BEGIN:VEVENT
DTSTART;TZID=Europe/Zurich:20261114T090000
DTEND;TZID=Europe/Zurich:20261114T170000
DTSTAMP:20260423T102409
CREATED:20240124T085836Z
LAST-MODIFIED:20251219T103047Z
UID:10000101-1794646800-1794675600@minis.ch
SUMMARY:Kurs Minileiter*in 14+
DESCRIPTION:Lerne\, wie du als Minileiter*in Mitverantwortung übernehmen kannst. Du entwickelst deine Leitungspersönlichkeit und frischst dein Minibasiswissen auf. Auch die Planung von Minianlässen kommt dabei nicht zu kurz.\nZielgruppe: Ministrant*innen 14 bis max. 17 Jahre \nKursinhalt \n\nWas gehört zum Ministrieren dazu?\nSpiele anleiten\nNeue Aufgaben für Minis in der Liturgie\nEine Aktion planen\n\n\nLernziele \nDie Teilnehmenden \n\nkennen die Grundlagen für ihre zukünftige Rolle als Leitungsperson\nerhalten Werkzeuge\, Spielideen und Anleitungstipps für die Arbeit in der Minischar\nlernen zusätzliche Aufgaben in der Liturgie kennen\nwissen\, wie verschiedene Aktivitäten mit den Minis gestaltet und aufgebaut werden\n\n\nLernmethoden \n\nKurzreferate\npraktische Übungen\nGruppenarbeit\nAustausch im Plenum\n\nLeitungsteam \n\nElija Lang\, Minileiter Pastoralraum Stadt Luzern\nSamuel Lang\, Minileiter Pastoralraum Stadt Luzern\nAntonela Majic\, Minileiterin Pastoralraum Michelsamt\nSvenja Meier\, Minileiterin Pastoralraum Michelsamt\nBr. Pascal Mettler\, Pfarreiseelsorger Pastoralraum Oberes Entlebuch\, verantwortlich für die Ministrant*innen in der Pfarrei Schüpfheim\nTimon Rüegsegger\, Minileiter Pfarrei Rothenburg\nJael Rüegsegger\, Minileiterin Pfarrei Rothenburg\nYves Zurkirch\, Jugendpastoral Landeskirche\n\nAbschluss: Minileiter*innen Zertifikat \nAnmeldung bis Freitag\, 23. Oktober 2026\nAnmeldung erfolgt direkt über die Katholische Kirche im Kanton Luzern. \nMinistrant*innen aus anderen Kantonen sind herzlich willkommen!
URL:https://minis.ch/event/kurs-minileiterinnen-14/
LOCATION:Röm. Kath. Landeskirche des Kantons Luzern\, Abendweg 1\, Luzern\, LU\, 6006
CATEGORIES:Kurse Minileiter*in
ATTACH;FMTTYPE=image/jpeg:https://minis.ch/wp-content/uploads/2020/04/Minileiterkurs-14_Veranstaltungen.jpg
END:VEVENT
END:VCALENDAR