BEGIN:VCALENDAR
VERSION:2.0
PRODID:-//minis.ch - ECPv6.15.20//NONSGML v1.0//EN
CALSCALE:GREGORIAN
METHOD:PUBLISH
X-WR-CALNAME:minis.ch
X-ORIGINAL-URL:https://minis.ch
X-WR-CALDESC:Veranstaltungen für minis.ch
REFRESH-INTERVAL;VALUE=DURATION:PT1H
X-Robots-Tag:noindex
X-PUBLISHED-TTL:PT1H
BEGIN:VTIMEZONE
TZID:Europe/Zurich
BEGIN:DAYLIGHT
TZOFFSETFROM:+0100
TZOFFSETTO:+0200
TZNAME:CEST
DTSTART:20230326T010000
END:DAYLIGHT
BEGIN:STANDARD
TZOFFSETFROM:+0200
TZOFFSETTO:+0100
TZNAME:CET
DTSTART:20231029T010000
END:STANDARD
BEGIN:DAYLIGHT
TZOFFSETFROM:+0100
TZOFFSETTO:+0200
TZNAME:CEST
DTSTART:20240331T010000
END:DAYLIGHT
BEGIN:STANDARD
TZOFFSETFROM:+0200
TZOFFSETTO:+0100
TZNAME:CET
DTSTART:20241027T010000
END:STANDARD
BEGIN:DAYLIGHT
TZOFFSETFROM:+0100
TZOFFSETTO:+0200
TZNAME:CEST
DTSTART:20250330T010000
END:DAYLIGHT
BEGIN:STANDARD
TZOFFSETFROM:+0200
TZOFFSETTO:+0100
TZNAME:CET
DTSTART:20251026T010000
END:STANDARD
END:VTIMEZONE
BEGIN:VEVENT
DTSTART;TZID=Europe/Zurich:20240427T090000
DTEND;TZID=Europe/Zurich:20240427T180000
DTSTAMP:20260422T135205
CREATED:20230622T162853Z
LAST-MODIFIED:20230622T162853Z
UID:16729-1714208400-1714240800@minis.ch
SUMMARY:Kurs Minileiter*in 14+
DESCRIPTION:Du bist zwischen 14 Jahre und maximal 17 Jahre alt und bist bereits eine erfahrene Ministrantin oder ein erfahrener Ministrant und möchtest die eine oder andere Verantwortung in der Minischar übernehmen? Dann melde dich am besten gleich für den Kurs Minileiter*in 14+ an. \nAusbildung \nDieser Kurs gibt dir einen ersten Eindruck und erste Werkzeuge\, welche du als Leitungsperson in der Minischar brauchen kannst. Folgende Themenblöcke werden wir gemeinsam ansehen: \n\nSpiele planen und anleiten\nWie plane ich einen Minitreff\nEinblicke Ministrant*innen- Aufgaben in der Liturgie\nSpass und Kennenlernen von neuen Ideen\, Aktivitäten\, Spielen & Leute\n\nWichtig: \nTeilnehmende sind Minis im Alter zwischen 14 bis 17 Jahren. \n  \nFlyer Kurs Minileiter*in 14+ \nAnmeldung und weitere Infos
URL:https://minis.ch/event/kurs-minileiterin-14-3/
LOCATION:Pfarreizentrum Klösterli\, Klösterliweg 6\, Frauenfeld\, TG\, 8500\, Switzerland
CATEGORIES:Kurse Minileiter*in
ATTACH;FMTTYPE=image/jpeg:https://minis.ch/wp-content/uploads/2020/04/Minileiterkurs-14_Veranstaltungen.jpg
GEO:47.5529055;8.8954329
X-APPLE-STRUCTURED-LOCATION;VALUE=URI;X-ADDRESS=Pfarreizentrum Klösterli Klösterliweg 6 Frauenfeld TG 8500 Switzerland;X-APPLE-RADIUS=500;X-TITLE=Klösterliweg 6:geo:8.8954329,47.5529055
END:VEVENT
END:VCALENDAR